BEGIN:VCALENDAR
VERSION:2.0
PRODID:-//Kamermuziek Zelhem - ECPv6.15.20//NONSGML v1.0//EN
CALSCALE:GREGORIAN
METHOD:PUBLISH
X-WR-CALNAME:Kamermuziek Zelhem
X-ORIGINAL-URL:https://www.kamermuziekzelhem.nl
X-WR-CALDESC:Evenementen voor Kamermuziek Zelhem
REFRESH-INTERVAL;VALUE=DURATION:PT1H
X-Robots-Tag:noindex
X-PUBLISHED-TTL:PT1H
BEGIN:VTIMEZONE
TZID:Europe/Amsterdam
BEGIN:DAYLIGHT
TZOFFSETFROM:+0100
TZOFFSETTO:+0200
TZNAME:CEST
DTSTART:20250330T010000
END:DAYLIGHT
BEGIN:STANDARD
TZOFFSETFROM:+0200
TZOFFSETTO:+0100
TZNAME:CET
DTSTART:20251026T010000
END:STANDARD
BEGIN:DAYLIGHT
TZOFFSETFROM:+0100
TZOFFSETTO:+0200
TZNAME:CEST
DTSTART:20260329T010000
END:DAYLIGHT
BEGIN:STANDARD
TZOFFSETFROM:+0200
TZOFFSETTO:+0100
TZNAME:CET
DTSTART:20261025T010000
END:STANDARD
BEGIN:DAYLIGHT
TZOFFSETFROM:+0100
TZOFFSETTO:+0200
TZNAME:CEST
DTSTART:20270328T010000
END:DAYLIGHT
BEGIN:STANDARD
TZOFFSETFROM:+0200
TZOFFSETTO:+0100
TZNAME:CET
DTSTART:20271031T010000
END:STANDARD
END:VTIMEZONE
BEGIN:VEVENT
DTSTART;TZID=Europe/Amsterdam:20260329T200000
DTEND;TZID=Europe/Amsterdam:20260329T220000
DTSTAMP:20260425T180601
CREATED:20250610T065941Z
LAST-MODIFIED:20250909T180027Z
UID:3482-1774814400-1774821600@www.kamermuziekzelhem.nl
SUMMARY:Eric Vloeimans\, trompet Will Holshouser\, accordeon
DESCRIPTION:
URL:https://www.kamermuziekzelhem.nl/evenementen/3482/
LOCATION:Cultureel Centrum “De Brink”\, Stationsplein 8-12\, Zelhem\, 7021 CN\, Nederland
ORGANIZER;CN="St. Kamermuziek Zelhem":MAILTO:carlaelschot@chello.nl
END:VEVENT
END:VCALENDAR