BEGIN:VCALENDAR
VERSION:2.0
PRODID:-//Kamermuziek Zelhem - ECPv6.15.20//NONSGML v1.0//EN
CALSCALE:GREGORIAN
METHOD:PUBLISH
X-WR-CALNAME:Kamermuziek Zelhem
X-ORIGINAL-URL:https://www.kamermuziekzelhem.nl
X-WR-CALDESC:Evenementen voor Kamermuziek Zelhem
REFRESH-INTERVAL;VALUE=DURATION:PT1H
X-Robots-Tag:noindex
X-PUBLISHED-TTL:PT1H
BEGIN:VTIMEZONE
TZID:Europe/Amsterdam
BEGIN:DAYLIGHT
TZOFFSETFROM:+0100
TZOFFSETTO:+0200
TZNAME:CEST
DTSTART:20250330T010000
END:DAYLIGHT
BEGIN:STANDARD
TZOFFSETFROM:+0200
TZOFFSETTO:+0100
TZNAME:CET
DTSTART:20251026T010000
END:STANDARD
BEGIN:DAYLIGHT
TZOFFSETFROM:+0100
TZOFFSETTO:+0200
TZNAME:CEST
DTSTART:20260329T010000
END:DAYLIGHT
BEGIN:STANDARD
TZOFFSETFROM:+0200
TZOFFSETTO:+0100
TZNAME:CET
DTSTART:20261025T010000
END:STANDARD
BEGIN:DAYLIGHT
TZOFFSETFROM:+0100
TZOFFSETTO:+0200
TZNAME:CEST
DTSTART:20270328T010000
END:DAYLIGHT
BEGIN:STANDARD
TZOFFSETFROM:+0200
TZOFFSETTO:+0100
TZNAME:CET
DTSTART:20271031T010000
END:STANDARD
BEGIN:DAYLIGHT
TZOFFSETFROM:+0100
TZOFFSETTO:+0200
TZNAME:CEST
DTSTART:20280326T010000
END:DAYLIGHT
BEGIN:STANDARD
TZOFFSETFROM:+0200
TZOFFSETTO:+0100
TZNAME:CET
DTSTART:20281029T010000
END:STANDARD
END:VTIMEZONE
BEGIN:VEVENT
DTSTART;TZID=Europe/Amsterdam:20261129T200000
DTEND;TZID=Europe/Amsterdam:20261129T220000
DTSTAMP:20260425T180518
CREATED:20260331T071346Z
LAST-MODIFIED:20260331T071347Z
UID:3833-1795982400-1795989600@www.kamermuziekzelhem.nl
SUMMARY:Ruysdael Kwartet met Maartje-Maria den Herder\, cello
DESCRIPTION:
URL:https://www.kamermuziekzelhem.nl/evenementen/ruysdael-kwartet-met-maartje-maria-den-herder-cello/
LOCATION:Cultureel Centrum “De Brink”\, Stationsplein 8-12\, Zelhem\, 7021 CN\, Nederland
ORGANIZER;CN="St. Kamermuziek Zelhem":MAILTO:carlaelschot@chello.nl
END:VEVENT
BEGIN:VEVENT
DTSTART;TZID=Europe/Amsterdam:20261213T200000
DTEND;TZID=Europe/Amsterdam:20261213T220000
DTSTAMP:20260425T180518
CREATED:20260331T071815Z
LAST-MODIFIED:20260331T071817Z
UID:3838-1797192000-1797199200@www.kamermuziekzelhem.nl
SUMMARY:Lumaka Ensemble
DESCRIPTION:
URL:https://www.kamermuziekzelhem.nl/evenementen/lumaka-ensemble/
LOCATION:Cultureel Centrum “De Brink”\, Stationsplein 8-12\, Zelhem\, 7021 CN\, Nederland
ORGANIZER;CN="St. Kamermuziek Zelhem":MAILTO:carlaelschot@chello.nl
END:VEVENT
BEGIN:VEVENT
DTSTART;TZID=Europe/Amsterdam:20270131T200000
DTEND;TZID=Europe/Amsterdam:20270131T220000
DTSTAMP:20260425T180518
CREATED:20260331T071953Z
LAST-MODIFIED:20260331T071955Z
UID:3840-1801425600-1801432800@www.kamermuziekzelhem.nl
SUMMARY:Berlage Saxafoonkwartet met Noa Wilschut\, viool
DESCRIPTION:
URL:https://www.kamermuziekzelhem.nl/evenementen/berlage-saxafoonkwartet-met-noa-wilschut-viool/
LOCATION:Cultureel Centrum “De Brink”\, Stationsplein 8-12\, Zelhem\, 7021 CN\, Nederland
ORGANIZER;CN="St. Kamermuziek Zelhem":MAILTO:carlaelschot@chello.nl
END:VEVENT
BEGIN:VEVENT
DTSTART;TZID=Europe/Amsterdam:20270214T200000
DTEND;TZID=Europe/Amsterdam:20270214T220000
DTSTAMP:20260425T180518
CREATED:20260331T072234Z
LAST-MODIFIED:20260331T072341Z
UID:3842-1802635200-1802642400@www.kamermuziekzelhem.nl
SUMMARY:Pianokwartet met Rik Kuppen\, piano\, Tim Brakman\, viool\, Floor le Coultre\, altviool\, Thomas Prechal\, cello en componist Erik Slik\, tenor
DESCRIPTION:
URL:https://www.kamermuziekzelhem.nl/evenementen/ianokwartet-met-rik-kuppen-piano-tim-brakman-viool-floor-le-coutre-altviool-thomas-precahl-cello-en-componist-erik-slik-tenor/
LOCATION:Cultureel Centrum “De Brink”\, Stationsplein 8-12\, Zelhem\, 7021 CN\, Nederland
ORGANIZER;CN="St. Kamermuziek Zelhem":MAILTO:carlaelschot@chello.nl
END:VEVENT
BEGIN:VEVENT
DTSTART;TZID=Europe/Amsterdam:20270321T200000
DTEND;TZID=Europe/Amsterdam:20270321T220000
DTSTAMP:20260425T180518
CREATED:20260331T072503Z
LAST-MODIFIED:20260331T072505Z
UID:3846-1805659200-1805666400@www.kamermuziekzelhem.nl
SUMMARY:Ralph van Raat\, piano
DESCRIPTION:
URL:https://www.kamermuziekzelhem.nl/evenementen/ralph-van-raat-piano/
LOCATION:Cultureel Centrum “De Brink”\, Stationsplein 8-12\, Zelhem\, 7021 CN\, Nederland
ORGANIZER;CN="St. Kamermuziek Zelhem":MAILTO:carlaelschot@chello.nl
END:VEVENT
END:VCALENDAR